BEGIN:VCALENDAR
VERSION:2.0
PRODID:-//Victory Poster - ECPv6.15.18//NONSGML v1.0//EN
CALSCALE:GREGORIAN
METHOD:PUBLISH
X-WR-CALNAME:Victory Poster
X-ORIGINAL-URL:https://victoryposter.com/fr/
X-WR-CALDESC:Évènements pour Victory Poster
REFRESH-INTERVAL;VALUE=DURATION:PT1H
X-Robots-Tag:noindex
X-PUBLISHED-TTL:PT1H
BEGIN:VTIMEZONE
TZID:Europe/Amsterdam
BEGIN:DAYLIGHT
TZOFFSETFROM:+0100
TZOFFSETTO:+0200
TZNAME:CEST
DTSTART:20250330T010000
END:DAYLIGHT
BEGIN:STANDARD
TZOFFSETFROM:+0200
TZOFFSETTO:+0100
TZNAME:CET
DTSTART:20251026T010000
END:STANDARD
BEGIN:DAYLIGHT
TZOFFSETFROM:+0100
TZOFFSETTO:+0200
TZNAME:CEST
DTSTART:20260329T010000
END:DAYLIGHT
BEGIN:STANDARD
TZOFFSETFROM:+0200
TZOFFSETTO:+0100
TZNAME:CET
DTSTART:20261025T010000
END:STANDARD
BEGIN:DAYLIGHT
TZOFFSETFROM:+0100
TZOFFSETTO:+0200
TZNAME:CEST
DTSTART:20270328T010000
END:DAYLIGHT
BEGIN:STANDARD
TZOFFSETFROM:+0200
TZOFFSETTO:+0100
TZNAME:CET
DTSTART:20271031T010000
END:STANDARD
END:VTIMEZONE
BEGIN:VEVENT
DTSTART;VALUE=DATE:20260416
DTEND;VALUE=DATE:20260420
DTSTAMP:20260419T180037
CREATED:20250709T090632Z
LAST-MODIFIED:20251206T133424Z
UID:10002279-1776297600-1776643199@victoryposter.com
SUMMARY:HYROX CGN - Cologne
DESCRIPTION:
URL:https://victoryposter.com/fr/kalender/hyrox-cgn-cologne/
CATEGORIES:HYROX
END:VEVENT
BEGIN:VEVENT
DTSTART;VALUE=DATE:20260416
DTEND;VALUE=DATE:20260420
DTSTAMP:20260419T180037
CREATED:20250709T090725Z
LAST-MODIFIED:20251122T083942Z
UID:10002273-1776297600-1776643199@victoryposter.com
SUMMARY:HYROX MLG - Malaga
DESCRIPTION:
URL:https://victoryposter.com/fr/kalender/hyrox-mlg-malaga/
CATEGORIES:HYROX
END:VEVENT
BEGIN:VEVENT
DTSTART;VALUE=DATE:20260416
DTEND;VALUE=DATE:20260420
DTSTAMP:20260419T180037
CREATED:20250709T091200Z
LAST-MODIFIED:20251121T181439Z
UID:10002261-1776297600-1776643199@victoryposter.com
SUMMARY:HYROX ROT - Rotterdam
DESCRIPTION:
URL:https://victoryposter.com/fr/kalender/hyrox-rot-rotterdam/
CATEGORIES:HYROX
END:VEVENT
BEGIN:VEVENT
DTSTART;VALUE=DATE:20260416
DTEND;VALUE=DATE:20260420
DTSTAMP:20260419T180037
CREATED:20251229T103731Z
LAST-MODIFIED:20251229T103731Z
UID:10003077-1776297600-1776643199@victoryposter.com
SUMMARY:HYROX WAW - Warsaw
DESCRIPTION:
URL:https://victoryposter.com/fr/kalender/hyrox-waw-warsaw/
CATEGORIES:HYROX
END:VEVENT
BEGIN:VEVENT
DTSTART;VALUE=DATE:20260419
DTEND;VALUE=DATE:20260420
DTSTAMP:20260419T180037
CREATED:20230126T150716Z
LAST-MODIFIED:20251122T092255Z
UID:10002858-1776556800-1776643199@victoryposter.com
SUMMARY:Brabantse Pijl - Cyclo
DESCRIPTION:
URL:https://victoryposter.com/fr/kalender/brabantse-pijl-cyclo/
CATEGORIES:Cycling,Toertocht/Granfondo
ATTACH;FMTTYPE=image/jpeg:https://victoryposter.com/wp-content/uploads/2022/04/Brabantse-Pijl-Cyclo-142-KM-2024-Mockup-1.jpg
END:VEVENT
BEGIN:VEVENT
DTSTART;VALUE=DATE:20260419
DTEND;VALUE=DATE:20260420
DTSTAMP:20260419T180037
CREATED:20230126T150716Z
LAST-MODIFIED:20251122T092224Z
UID:10002857-1776556800-1776643199@victoryposter.com
SUMMARY:Amstel Gold Race (ELITE)
DESCRIPTION:
URL:https://victoryposter.com/fr/kalender/amstel-gold-race-elite/
CATEGORIES:Cycling,Elite
ATTACH;FMTTYPE=image/jpeg:https://victoryposter.com/wp-content/uploads/2020/12/AGR-elite-heren-2019-Mockup-1.jpg
END:VEVENT
BEGIN:VEVENT
DTSTART;VALUE=DATE:20260419
DTEND;VALUE=DATE:20260420
DTSTAMP:20260419T180037
CREATED:20230126T150736Z
LAST-MODIFIED:20230126T150736Z
UID:10001981-1776556800-1776643199@victoryposter.com
SUMMARY:Marathon Vienne
DESCRIPTION:
URL:https://victoryposter.com/fr/kalender/marathon-vienne/
CATEGORIES:Courir,Marathon
ATTACH;FMTTYPE=image/jpeg:https://victoryposter.com/wp-content/uploads/2026/03/Marathon-Wenen-2026-Mockup-1-FR.jpg
END:VEVENT
BEGIN:VEVENT
DTSTART;VALUE=DATE:20260419
DTEND;VALUE=DATE:20260420
DTSTAMP:20260419T180037
CREATED:20230427T121116Z
LAST-MODIFIED:20260419T100051Z
UID:10002751-1776556800-1776643199@victoryposter.com
SUMMARY:Marathon Manchester
DESCRIPTION:
URL:https://victoryposter.com/fr/kalender/marathon-manchester/
CATEGORIES:Courir,Marathon
ATTACH;FMTTYPE=image/jpeg:https://victoryposter.com/wp-content/uploads/2026/04/Marathon-Manchester-2026-Mockup-1-FR.jpg
END:VEVENT
BEGIN:VEVENT
DTSTART;VALUE=DATE:20260419
DTEND;VALUE=DATE:20260420
DTSTAMP:20260419T180037
CREATED:20240209T094941Z
LAST-MODIFIED:20240209T094941Z
UID:10002105-1776556800-1776643199@victoryposter.com
SUMMARY:IronMan Valencia (70.3)
DESCRIPTION:
URL:https://victoryposter.com/fr/kalender/ironman-valencia-70-3/
CATEGORIES:70.3,Triathlon
ATTACH;FMTTYPE=image/jpeg:https://victoryposter.com/wp-content/uploads/2024/02/IronMan-Valencia-70.3-2026-Mockup-1-EN.jpg
END:VEVENT
BEGIN:VEVENT
DTSTART;VALUE=DATE:20260419
DTEND;VALUE=DATE:20260420
DTSTAMP:20260419T180037
CREATED:20240423T143745Z
LAST-MODIFIED:20240423T143745Z
UID:10002450-1776556800-1776643199@victoryposter.com
SUMMARY:Semi Marathon Bonn
DESCRIPTION:
URL:https://victoryposter.com/fr/kalender/semi-marathon-bonn/
CATEGORIES:Courir,Semi Marathon
ATTACH;FMTTYPE=image/jpeg:https://victoryposter.com/wp-content/uploads/2026/04/Halve-Marathon-Bonn-2026-Mockup-1-FR.jpg
END:VEVENT
BEGIN:VEVENT
DTSTART;VALUE=DATE:20260419
DTEND;VALUE=DATE:20260420
DTSTAMP:20260419T180037
CREATED:20240515T190531Z
LAST-MODIFIED:20240515T190531Z
UID:10001992-1776556800-1776643199@victoryposter.com
SUMMARY:Marathon Crète
DESCRIPTION:
URL:https://victoryposter.com/fr/kalender/marathon-crete/
CATEGORIES:Courir,Marathon
ATTACH;FMTTYPE=image/jpeg:https://victoryposter.com/wp-content/uploads/2026/04/Marathon-Kreta-2026-Mockup-1-FR.jpg
END:VEVENT
BEGIN:VEVENT
DTSTART;VALUE=DATE:20260419
DTEND;VALUE=DATE:20260420
DTSTAMP:20260419T180037
CREATED:20240521T095923Z
LAST-MODIFIED:20240521T095923Z
UID:10002066-1776556800-1776643199@victoryposter.com
SUMMARY:S25 Berlin
DESCRIPTION:
URL:https://victoryposter.com/fr/kalender/s25-berlin/
CATEGORIES:25 Kilometer,Courir
ATTACH;FMTTYPE=image/jpeg:https://victoryposter.com/wp-content/uploads/2026/04/S25-Berlin-2026-Mockup-1-FR.jpg
END:VEVENT
BEGIN:VEVENT
DTSTART;VALUE=DATE:20260419
DTEND;VALUE=DATE:20260420
DTSTAMP:20260419T180037
CREATED:20241025T101952Z
LAST-MODIFIED:20241025T101952Z
UID:10002920-1776556800-1776643199@victoryposter.com
SUMMARY:Marathon Connemara (Connemarathon)
DESCRIPTION:
URL:https://victoryposter.com/fr/kalender/marathon-connemara-connemarathon/
CATEGORIES:Courir,Marathon
ATTACH;FMTTYPE=image/jpeg:https://victoryposter.com/wp-content/uploads/2026/04/Marathon-Connemara-2026-Mockup-1-FR.jpg
END:VEVENT
BEGIN:VEVENT
DTSTART;VALUE=DATE:20260419
DTEND;VALUE=DATE:20260420
DTSTAMP:20260419T180037
CREATED:20250107T122456Z
LAST-MODIFIED:20251206T132151Z
UID:10001967-1776556800-1776643199@victoryposter.com
SUMMARY:Semi Marathon Louvain
DESCRIPTION:
URL:https://victoryposter.com/fr/kalender/semi-marathon-louvain-european-running-championships/
CATEGORIES:Courir,Semi Marathon
ATTACH;FMTTYPE=image/jpeg:https://victoryposter.com/wp-content/uploads/2026/04/Halve-Marathon-Leuven-2026-Mockup-1-FR.jpg
END:VEVENT
BEGIN:VEVENT
DTSTART;VALUE=DATE:20260419
DTEND;VALUE=DATE:20260420
DTSTAMP:20260419T180037
CREATED:20250107T122638Z
LAST-MODIFIED:20251206T132202Z
UID:10001966-1776556800-1776643199@victoryposter.com
SUMMARY:Marathon Louvain
DESCRIPTION:
URL:https://victoryposter.com/fr/kalender/marathon-louvain-european-running-championships/
CATEGORIES:Courir,Marathon
ATTACH;FMTTYPE=image/jpeg:https://victoryposter.com/wp-content/uploads/2026/04/Marathon-Leuven-2026-Mockup-1-FR.jpg
END:VEVENT
BEGIN:VEVENT
DTSTART;VALUE=DATE:20260419
DTEND;VALUE=DATE:20260420
DTSTAMP:20260419T180037
CREATED:20250107T122707Z
LAST-MODIFIED:20251206T132139Z
UID:10001968-1776556800-1776643199@victoryposter.com
SUMMARY:10 KM Louvain
DESCRIPTION:
URL:https://victoryposter.com/fr/kalender/10-km-louvain-european-running-championships/
CATEGORIES:10 Kilometer,Courir
ATTACH;FMTTYPE=image/jpeg:https://victoryposter.com/wp-content/uploads/2026/04/10-KM-Leuven-2026-Mockup-1-FR.jpg
END:VEVENT
BEGIN:VEVENT
DTSTART;VALUE=DATE:20260419
DTEND;VALUE=DATE:20260420
DTSTAMP:20260419T180037
CREATED:20250201T102858Z
LAST-MODIFIED:20250913T161809Z
UID:10002597-1776556800-1776643199@victoryposter.com
SUMMARY:Marathon Bonn
DESCRIPTION:
URL:https://victoryposter.com/fr/kalender/marathon-bonn-2/
CATEGORIES:Courir,Marathon
ATTACH;FMTTYPE=image/jpeg:https://victoryposter.com/wp-content/uploads/2025/04/Marathon-Bonn-2025-Mockup-1-FR.jpg
END:VEVENT
BEGIN:VEVENT
DTSTART;VALUE=DATE:20260419
DTEND;VALUE=DATE:20260420
DTSTAMP:20260419T180037
CREATED:20250610T052413Z
LAST-MODIFIED:20250610T052413Z
UID:10002431-1776556800-1776643199@victoryposter.com
SUMMARY:Semi Marathon Veldhoven
DESCRIPTION:
URL:https://victoryposter.com/fr/kalender/semi-marathon-veldhoven/
CATEGORIES:Courir,Semi Marathon
ATTACH;FMTTYPE=image/jpeg:https://victoryposter.com/wp-content/uploads/2026/04/Halve-Marathon-Veldhoven-2026-Mockup-1-FR.jpg
END:VEVENT
BEGIN:VEVENT
DTSTART;VALUE=DATE:20260420
DTEND;VALUE=DATE:20260421
DTSTAMP:20260419T180037
CREATED:20230126T150720Z
LAST-MODIFIED:20230126T150720Z
UID:10002032-1776643200-1776729599@victoryposter.com
SUMMARY:Marathon Boston
DESCRIPTION:
URL:https://victoryposter.com/fr/kalender/marathon-boston/
CATEGORIES:Courir,Marathon
ATTACH;FMTTYPE=image/jpeg:https://victoryposter.com/wp-content/uploads/2026/03/Marathon-Boston-2026-Mockup-1-FR.jpg
END:VEVENT
BEGIN:VEVENT
DTSTART;VALUE=DATE:20260420
DTEND;VALUE=DATE:20260425
DTSTAMP:20260419T180037
CREATED:20240209T095358Z
LAST-MODIFIED:20251206T132944Z
UID:10002701-1776643200-1777075199@victoryposter.com
SUMMARY:Tour of the Alps
DESCRIPTION:
URL:https://victoryposter.com/fr/kalender/tour-of-the-alps/
CATEGORIES:Cycling,Elite
END:VEVENT
BEGIN:VEVENT
DTSTART;VALUE=DATE:20260422
DTEND;VALUE=DATE:20260423
DTSTAMP:20260419T180037
CREATED:20230126T150720Z
LAST-MODIFIED:20251206T132916Z
UID:10002856-1776816000-1776902399@victoryposter.com
SUMMARY:La Fleche Wallonne (ELITE)
DESCRIPTION:
URL:https://victoryposter.com/fr/kalender/la-fleche-wallone-elite/
CATEGORIES:Cycling,Elite
ATTACH;FMTTYPE=image/jpeg:https://victoryposter.com/wp-content/uploads/2021/10/La-Fleche-Wallonne-96KM-2016-Mockup-1.jpg
END:VEVENT
BEGIN:VEVENT
DTSTART;VALUE=DATE:20260423
DTEND;VALUE=DATE:20260427
DTSTAMP:20260419T180037
CREATED:20250709T083749Z
LAST-MODIFIED:20251229T103921Z
UID:10002351-1776902400-1777247999@victoryposter.com
SUMMARY:HYROX PAR - Paris
DESCRIPTION:
URL:https://victoryposter.com/fr/kalender/hyrox-par-paris/
CATEGORIES:HYROX
END:VEVENT
BEGIN:VEVENT
DTSTART;VALUE=DATE:20260425
DTEND;VALUE=DATE:20260426
DTSTAMP:20260419T180037
CREATED:20230126T150736Z
LAST-MODIFIED:20251206T133548Z
UID:10002854-1777075200-1777161599@victoryposter.com
SUMMARY:Luik Bastenaken Luik - Cyclo 253 KM
DESCRIPTION:
URL:https://victoryposter.com/fr/kalender/luik-bastenaken-luik-cyclo-253-km/
CATEGORIES:Cycling,Toertocht/Granfondo
ATTACH;FMTTYPE=image/jpeg:https://victoryposter.com/wp-content/uploads/2024/04/LBL-Challenge-Cyclo-253KM-2025-Mockup-1.jpg
END:VEVENT
BEGIN:VEVENT
DTSTART;VALUE=DATE:20260425
DTEND;VALUE=DATE:20260426
DTSTAMP:20260419T180037
CREATED:20230126T150806Z
LAST-MODIFIED:20251206T132428Z
UID:10002852-1777075200-1777161599@victoryposter.com
SUMMARY:Mallorca 312
DESCRIPTION:
URL:https://victoryposter.com/fr/kalender/mallorca-312/
CATEGORIES:Cycling,Toertocht/Granfondo
ATTACH;FMTTYPE=image/jpeg:https://victoryposter.com/wp-content/uploads/2024/04/Mallorca312-2025-Mockup-1.jpg
END:VEVENT
BEGIN:VEVENT
DTSTART;VALUE=DATE:20260425
DTEND;VALUE=DATE:20260426
DTSTAMP:20260419T180037
CREATED:20230706T105413Z
LAST-MODIFIED:20251206T133810Z
UID:10002748-1777075200-1777161599@victoryposter.com
SUMMARY:Legends Backyard Ultra
DESCRIPTION:
URL:https://victoryposter.com/fr/kalender/legends-backyard-ultra/
CATEGORIES:Courir,Ultramarathon
ATTACH;FMTTYPE=image/jpeg:https://victoryposter.com/wp-content/uploads/2023/07/Legends-Backyard-Ultra-Kasterlee-2023-Mockup-1.jpg
END:VEVENT
BEGIN:VEVENT
DTSTART;VALUE=DATE:20260425
DTEND;VALUE=DATE:20260426
DTSTAMP:20260419T180037
CREATED:20240420T135043Z
LAST-MODIFIED:20251206T133555Z
UID:10002677-1777075200-1777161599@victoryposter.com
SUMMARY:Luik Bastenaken Luik - Cyclo 163 KM
DESCRIPTION:
URL:https://victoryposter.com/fr/kalender/luik-bastenaken-luik-cyclo-163-km/
CATEGORIES:Cycling,Toertocht/Granfondo
ATTACH;FMTTYPE=image/jpeg:https://victoryposter.com/wp-content/uploads/2021/09/LBL-Challenge-Cyclo-163-KM-2025-Mockup-1.jpg
END:VEVENT
BEGIN:VEVENT
DTSTART;VALUE=DATE:20260425
DTEND;VALUE=DATE:20260426
DTSTAMP:20260419T180037
CREATED:20240420T135135Z
LAST-MODIFIED:20251206T133603Z
UID:10002676-1777075200-1777161599@victoryposter.com
SUMMARY:Luik Bastenaken Luik - Cyclo 80 KM
DESCRIPTION:
URL:https://victoryposter.com/fr/kalender/luik-bastenaken-luik-cyclo-80-km/
CATEGORIES:Cycling,Toertocht/Granfondo
ATTACH;FMTTYPE=image/jpeg:https://victoryposter.com/wp-content/uploads/2024/04/LBL-Challenge-Cyclo-80-KM-2025-Mockup-1.jpg
END:VEVENT
BEGIN:VEVENT
DTSTART;VALUE=DATE:20260425
DTEND;VALUE=DATE:20260426
DTSTAMP:20260419T180037
CREATED:20240427T190545Z
LAST-MODIFIED:20251206T132434Z
UID:10002671-1777075200-1777161599@victoryposter.com
SUMMARY:Mallorca 225
DESCRIPTION:
URL:https://victoryposter.com/fr/kalender/mallorca-225/
CATEGORIES:Cycling,Toertocht/Granfondo
ATTACH;FMTTYPE=image/jpeg:https://victoryposter.com/wp-content/uploads/2024/04/Mallorca225-2025-Mockup-1.jpg
END:VEVENT
BEGIN:VEVENT
DTSTART;VALUE=DATE:20260425
DTEND;VALUE=DATE:20260426
DTSTAMP:20260419T180037
CREATED:20240427T190612Z
LAST-MODIFIED:20251206T132443Z
UID:10002670-1777075200-1777161599@victoryposter.com
SUMMARY:Mallorca 167
DESCRIPTION:
URL:https://victoryposter.com/fr/kalender/mallorca-167/
CATEGORIES:Cycling,Toertocht/Granfondo
ATTACH;FMTTYPE=image/jpeg:https://victoryposter.com/wp-content/uploads/2024/04/Mallorca167-2025-Mockup-1.jpg
END:VEVENT
BEGIN:VEVENT
DTSTART;VALUE=DATE:20260426
DTEND;VALUE=DATE:20260427
DTSTAMP:20260419T180037
CREATED:20230126T150636Z
LAST-MODIFIED:20250408T070301Z
UID:10001984-1777161600-1777247999@victoryposter.com
SUMMARY:Semi Marathon Madrid (Rock ‘n’ Roll)
DESCRIPTION:Rock ‘n Roll Halve Marathon Madrid
URL:https://victoryposter.com/fr/kalender/semi-marathon-madrid/
CATEGORIES:Courir,Semi Marathon
ATTACH;FMTTYPE=image/jpeg:https://victoryposter.com/wp-content/uploads/2025/04/Halve-Marathon-Madrid-Rock-n-Roll-2025-Mockup-1-FR.jpg
END:VEVENT
END:VCALENDAR